BEGIN:VCALENDAR
VERSION:2.0
PRODID:-//The Abilities Connection - ECPv6.15.20//NONSGML v1.0//EN
CALSCALE:GREGORIAN
METHOD:PUBLISH
X-WR-CALNAME:The Abilities Connection
X-ORIGINAL-URL:https://tacind.com
X-WR-CALDESC:Events for The Abilities Connection
REFRESH-INTERVAL;VALUE=DURATION:PT1H
X-Robots-Tag:noindex
X-PUBLISHED-TTL:PT1H
BEGIN:VTIMEZONE
TZID:America/Detroit
BEGIN:DAYLIGHT
TZOFFSETFROM:-0500
TZOFFSETTO:-0400
TZNAME:EDT
DTSTART:20220313T070000
END:DAYLIGHT
BEGIN:STANDARD
TZOFFSETFROM:-0400
TZOFFSETTO:-0500
TZNAME:EST
DTSTART:20221106T060000
END:STANDARD
BEGIN:DAYLIGHT
TZOFFSETFROM:-0500
TZOFFSETTO:-0400
TZNAME:EDT
DTSTART:20230312T070000
END:DAYLIGHT
BEGIN:STANDARD
TZOFFSETFROM:-0400
TZOFFSETTO:-0500
TZNAME:EST
DTSTART:20231105T060000
END:STANDARD
BEGIN:DAYLIGHT
TZOFFSETFROM:-0500
TZOFFSETTO:-0400
TZNAME:EDT
DTSTART:20240310T070000
END:DAYLIGHT
BEGIN:STANDARD
TZOFFSETFROM:-0400
TZOFFSETTO:-0500
TZNAME:EST
DTSTART:20241103T060000
END:STANDARD
BEGIN:DAYLIGHT
TZOFFSETFROM:-0500
TZOFFSETTO:-0400
TZNAME:EDT
DTSTART:20250309T070000
END:DAYLIGHT
BEGIN:STANDARD
TZOFFSETFROM:-0400
TZOFFSETTO:-0500
TZNAME:EST
DTSTART:20251102T060000
END:STANDARD
END:VTIMEZONE
BEGIN:VEVENT
DTSTART;VALUE=DATE:20240408
DTEND;VALUE=DATE:20240409
DTSTAMP:20260424T194841
CREATED:20240221T121857Z
LAST-MODIFIED:20240221T121857Z
UID:1383-1712534400-1712620799@tacind.com
SUMMARY:All Staff Training Day - No Services\, No Transportation
DESCRIPTION:
URL:https://tacind.com/event/all-staff-training-day-no-services-no-transportation/
END:VEVENT
BEGIN:VEVENT
DTSTART;VALUE=DATE:20240405
DTEND;VALUE=DATE:20240406
DTSTAMP:20260424T194841
CREATED:20240221T121831Z
LAST-MODIFIED:20240221T121831Z
UID:1381-1712275200-1712361599@tacind.com
SUMMARY:Calendar Change - TAC will have services
DESCRIPTION:
URL:https://tacind.com/event/calendar-change-tac-will-have-services/
END:VEVENT
BEGIN:VEVENT
DTSTART;VALUE=DATE:20240321
DTEND;VALUE=DATE:20240322
DTSTAMP:20260424T194841
CREATED:20240221T121922Z
LAST-MODIFIED:20240221T121922Z
UID:1385-1710979200-1711065599@tacind.com
SUMMARY:TAC Board Meeting
DESCRIPTION:
URL:https://tacind.com/event/tac-board-meeting-3/
END:VEVENT
BEGIN:VEVENT
DTSTART;TZID=America/Detroit:20240315T080000
DTEND;TZID=America/Detroit:20240315T170000
DTSTAMP:20260424T194841
CREATED:20231219T175012Z
LAST-MODIFIED:20231219T175012Z
UID:1286-1710489600-1710522000@tacind.com
SUMMARY:Wear GREEN for St. Patrick's Day
DESCRIPTION:
URL:https://tacind.com/event/wear-green-for-st-patricks-day/
END:VEVENT
BEGIN:VEVENT
DTSTART;VALUE=DATE:20240223
DTEND;VALUE=DATE:20240224
DTSTAMP:20260424T194841
CREATED:20231219T174911Z
LAST-MODIFIED:20231219T174911Z
UID:1284-1708646400-1708732799@tacind.com
SUMMARY:Wear (Appropriate) Pajamas to Work Day!
DESCRIPTION:
URL:https://tacind.com/event/wear-appropriate-pajamas-to-work-day/
END:VEVENT
BEGIN:VEVENT
DTSTART;VALUE=DATE:20240219
DTEND;VALUE=DATE:20240220
DTSTAMP:20260424T194841
CREATED:20240208T185706Z
LAST-MODIFIED:20240208T185706Z
UID:1360-1708300800-1708387199@tacind.com
SUMMARY:President's Day (Closed)
DESCRIPTION:
URL:https://tacind.com/event/presidents-day-closed/
END:VEVENT
BEGIN:VEVENT
DTSTART;VALUE=DATE:20240214
DTEND;VALUE=DATE:20240215
DTSTAMP:20260424T194841
CREATED:20240221T125943Z
LAST-MODIFIED:20240221T130303Z
UID:1387-1707868800-1707955199@tacind.com
SUMMARY:XPlore Valentine's Day
DESCRIPTION:
URL:https://tacind.com/event/xplore-valentines-day/
END:VEVENT
BEGIN:VEVENT
DTSTART;VALUE=DATE:20240119
DTEND;VALUE=DATE:20240120
DTSTAMP:20260424T194841
CREATED:20231219T174831Z
LAST-MODIFIED:20231219T174831Z
UID:1282-1705622400-1705708799@tacind.com
SUMMARY:National Popcorn Day
DESCRIPTION:
URL:https://tacind.com/event/national-popcorn-day/
END:VEVENT
BEGIN:VEVENT
DTSTART;TZID=America/Detroit:20240118T083000
DTEND;TZID=America/Detroit:20240118T100000
DTSTAMP:20260424T194841
CREATED:20240108T120951Z
LAST-MODIFIED:20240108T120951Z
UID:1295-1705566600-1705572000@tacind.com
SUMMARY:TAC Board Meeting
DESCRIPTION:
URL:https://tacind.com/event/tac-board-meeting-2/
END:VEVENT
BEGIN:VEVENT
DTSTART;VALUE=DATE:20240118
DTEND;VALUE=DATE:20240119
DTSTAMP:20260424T194842
CREATED:20240108T121031Z
LAST-MODIFIED:20240108T121031Z
UID:1297-1705536000-1705622399@tacind.com
SUMMARY:Pizza Party (No Vending Machines Available)
DESCRIPTION:
URL:https://tacind.com/event/pizza-party-no-vending-machines-available/
END:VEVENT
BEGIN:VEVENT
DTSTART;VALUE=DATE:20240115
DTEND;VALUE=DATE:20240116
DTSTAMP:20260424T194842
CREATED:20240108T120901Z
LAST-MODIFIED:20240108T120901Z
UID:1293-1705276800-1705363199@tacind.com
SUMMARY:Martin Luther King\, Jr Day (Closed)
DESCRIPTION:
URL:https://tacind.com/event/martin-luther-king-jr-day-closed/
END:VEVENT
BEGIN:VEVENT
DTSTART;VALUE=DATE:20231222
DTEND;VALUE=DATE:20231223
DTSTAMP:20260424T194842
CREATED:20240108T122411Z
LAST-MODIFIED:20240108T122612Z
UID:1299-1703203200-1703289599@tacind.com
SUMMARY:Christmas Party
DESCRIPTION:
URL:https://tacind.com/event/christmas-party/
END:VEVENT
BEGIN:VEVENT
DTSTART;VALUE=DATE:20231215
DTEND;VALUE=DATE:20231216
DTSTAMP:20260424T194842
CREATED:20231218T161648Z
LAST-MODIFIED:20231219T120004Z
UID:1254-1702598400-1702684799@tacind.com
SUMMARY:Ugly Christmas Sweater Day
DESCRIPTION:
URL:https://tacind.com/event/ugly-christmas-sweater-day/
END:VEVENT
BEGIN:VEVENT
DTSTART;VALUE=DATE:20231116
DTEND;VALUE=DATE:20231117
DTSTAMP:20260424T194842
CREATED:20230731T171827Z
LAST-MODIFIED:20231114T121104Z
UID:613-1700092800-1700179199@tacind.com
SUMMARY:TAC Board Meeting
DESCRIPTION:
URL:https://tacind.com/event/tac-board-meeting/
END:VEVENT
BEGIN:VEVENT
DTSTART;TZID=America/Detroit:20231027T090000
DTEND;TZID=America/Detroit:20231027T140000
DTSTAMP:20260424T194842
CREATED:20230921T145653Z
LAST-MODIFIED:20231114T121034Z
UID:772-1698397200-1698415200@tacind.com
SUMMARY:Fall Harvest
DESCRIPTION:
URL:https://tacind.com/event/fall-harvest/
END:VEVENT
BEGIN:VEVENT
DTSTART;VALUE=DATE:20230904
DTEND;VALUE=DATE:20230905
DTSTAMP:20260424T194842
CREATED:20230731T171023Z
LAST-MODIFIED:20231103T172746Z
UID:609-1693785600-1693871999@tacind.com
SUMMARY:Labor Day TAC Closed
DESCRIPTION:
URL:https://tacind.com/event/labor-day-tac-closed/
END:VEVENT
BEGIN:VEVENT
DTSTART;VALUE=DATE:20230826
DTEND;VALUE=DATE:20230827
DTSTAMP:20260424T194842
CREATED:20230927T051135Z
LAST-MODIFIED:20231108T130309Z
UID:809-1693008000-1693094399@tacind.com
SUMMARY:Wake the Lake 2023
DESCRIPTION:
URL:https://tacind.com/event/wake-the-lake-2023/
END:VEVENT
BEGIN:VEVENT
DTSTART;VALUE=DATE:20230825
DTEND;VALUE=DATE:20230826
DTSTAMP:20260424T194842
CREATED:20230928T140629Z
LAST-MODIFIED:20231108T130504Z
UID:873-1692921600-1693007999@tacind.com
SUMMARY:WPAFB Visit
DESCRIPTION:
URL:https://tacind.com/event/wpafb-visit/
END:VEVENT
BEGIN:VEVENT
DTSTART;VALUE=DATE:20230526
DTEND;VALUE=DATE:20230527
DTSTAMP:20260424T194842
CREATED:20230927T051059Z
LAST-MODIFIED:20231108T130519Z
UID:807-1685059200-1685145599@tacind.com
SUMMARY:Fishing Derby 2023
DESCRIPTION:
URL:https://tacind.com/event/fishing-derby-2023/
END:VEVENT
BEGIN:VEVENT
DTSTART;VALUE=DATE:20230320
DTEND;VALUE=DATE:20230321
DTSTAMP:20260424T194842
CREATED:20230921T193415Z
LAST-MODIFIED:20231114T121253Z
UID:803-1679270400-1679356799@tacind.com
SUMMARY:Governor DeWine Visit
DESCRIPTION:
URL:https://tacind.com/event/governor-dewine-visit/
END:VEVENT
END:VCALENDAR